BEGIN:VCALENDAR
VERSION:2.0
PRODID:-//ChamberMaster//Event Calendar 2.0//EN
METHOD:PUBLISH
X-PUBLISHED-TTL:P3D
REFRESH-INTERVAL:P3D
CALSCALE:GREGORIAN
BEGIN:VEVENT
DTSTART:20221029T230000Z
DTEND:20221030T020000Z
X-MICROSOFT-CDO-ALLDAYEVENT:FALSE
SUMMARY:Annual Domestic Violence Awareness Walk and Candlelight Vigil
DESCRIPTION:Battered Families Services\, Inc. will be hosting its Annual Domestic Violence Awareness Walk and Candlelight Vigil. The walk will start at the Battered Families Services\, Inc.'s administration office to McKinley County Courthouse Plaza and will last approximately 30 minutes. A candlelight vigil will follow\, along with speakers and dance groups. Everyone is welcomed to attend. Free t-shirts will be give to the first 50 participants.
X-ALT-DESC;FMTTYPE=text/html:Battered Families Services\, Inc. will be hosting its Annual Domestic Violence Awareness Walk and Candlelight Vigil. The walk will start at the Battered Families Services\, Inc.&#39\;s administration office to McKinley County Courthouse Plaza and will last approximately 30 minutes. A candlelight vigil will follow\, along with speakers and dance groups. Everyone is welcomed to attend. Free t-shirts will be give to the first 50 participants.
LOCATION:Walk starts at 207 South Strong Drive\, Gallup\, NM 87301 and will end at the McKinley County Courthouse Plaza.
UID:e.744.3797
SEQUENCE:3
DTSTAMP:20260420T183923Z
URL:http://gallup-mckinley-gzcms.preview.gochambermaster.com/events/details/annual-domestic-violence-awareness-walk-and-candlelight-vigil-3797
END:VEVENT

END:VCALENDAR
