BEGIN:VCALENDAR
VERSION:2.0
PRODID:-//ChamberMaster//Event Calendar 2.0//EN
METHOD:PUBLISH
X-PUBLISHED-TTL:P3D
REFRESH-INTERVAL:P3D
CALSCALE:GREGORIAN
BEGIN:VEVENT
DTSTART:20220415T143000Z
DTEND:20220415T223000Z
X-MICROSOFT-CDO-ALLDAYEVENT:FALSE
SUMMARY:Bake Sale - Washington Federal Bank Lobby
DESCRIPTION:Bake Sale Fundraiser at WaFd Bank \n\n\n\nCome out to help support one of the Gallup Chamber's Leadership McKinley Capstone Groups as they work toward completing their Capstone Project!\n\n\n\nThe Gallup Sixers' capstone goal\, the "Sparky Project" is fundraising to be able to purchase and provide ballistic vests to first responders. \n\n\n\nThis is the first of many fundraising events they will be having - stop by and help them out while satisfying your sweet tooth!
X-ALT-DESC;FMTTYPE=text/html:<span style="font-size:18px\;"><span style="font-family:tahoma\;">Bake Sale Fundraiser at WaFd Bank&nbsp\;<br />\n<br />\nCome out to help support one of the Gallup Chamber&#39\;s Leadership McKinley Capstone Groups as they work toward completing their Capstone Project!<br />\n<br />\n<em>The Gallup Sixers&#39\;&nbsp\;</em>capstone goal\, the &quot\;Sparky Project&quot\; is fundraising to be able to purchase and provide ballistic vests to first responders.&nbsp\;<br />\n<br />\nThis is the first of many fundraising events they will be having - stop by and help them out while satisfying your sweet tooth!</span></span>
LOCATION:WaFd Bank Lobby 221 West Aztec Ave. Gallup\, NM
UID:e.744.3760
SEQUENCE:3
DTSTAMP:20260421T050150Z
URL:http://gallup-mckinley-gzcms.preview.gochambermaster.com/events/details/bake-sale-washington-federal-bank-lobby-3760
END:VEVENT

END:VCALENDAR
