BEGIN:VCALENDAR
VERSION:2.0
PRODID:-//ChamberMaster//Event Calendar 2.0//EN
METHOD:PUBLISH
X-PUBLISHED-TTL:P3D
REFRESH-INTERVAL:P3D
CALSCALE:GREGORIAN
BEGIN:VEVENT
DTSTART:20180316T000000Z
DTEND:20180316T030000Z
X-MICROSOFT-CDO-ALLDAYEVENT:FALSE
SUMMARY:Chamber Of Commerce Shindig Banquet
DESCRIPTION:Gallup McKinley County Chamber of Commerce Shindig Banquet
X-ALT-DESC;FMTTYPE=text/html:Gallup McKinley County Chamber of Commerce Shindig Banquet
LOCATION:Red Rock Park
UID:e.744.2258
SEQUENCE:3
DTSTAMP:20260426T000438Z
URL:http://gallup-mckinley-gzcms.preview.gochambermaster.com/events/details/chamber-of-commerce-shindig-banquet-2258
END:VEVENT

END:VCALENDAR
