BEGIN:VCALENDAR
VERSION:2.0
PRODID:-//ChamberMaster//Event Calendar 2.0//EN
METHOD:PUBLISH
X-PUBLISHED-TTL:P3D
REFRESH-INTERVAL:P3D
CALSCALE:GREGORIAN
BEGIN:VEVENT
DTSTART:20190323T000000Z
DTEND:20190323T053000Z
X-MICROSOFT-CDO-ALLDAYEVENT:FALSE
SUMMARY:Chamber Of Commerce Smokin' Good Time Banquet
DESCRIPTION:Chamber of Commerce Smokin' Good Time Banquet\n\nGames\, Raffle Drawings\, Hors D'oeurves\, Dinner and Dancing
X-ALT-DESC;FMTTYPE=text/html:Chamber of Commerce Smokin&#39\; Good Time Banquet<br />\nGames\, Raffle Drawings\, Hors D&#39\;oeurves\, Dinner and Dancing&nbsp\;
LOCATION:Red Rock Park\, Gallup\, NM
UID:e.744.2280
SEQUENCE:3
DTSTAMP:20260425T020016Z
URL:http://gallup-mckinley-gzcms.preview.gochambermaster.com/events/details/chamber-of-commerce-smokin-good-time-banquet-2280
END:VEVENT

END:VCALENDAR
