BEGIN:VCALENDAR
VERSION:2.0
PRODID:-//ChamberMaster//Event Calendar 2.0//EN
METHOD:PUBLISH
X-PUBLISHED-TTL:P3D
REFRESH-INTERVAL:P3D
CALSCALE:GREGORIAN
BEGIN:VEVENT
DTSTART:20230302T183000Z
DTEND:20230302T200000Z
X-MICROSOFT-CDO-ALLDAYEVENT:FALSE
SUMMARY:Fundaxi Gallup Community Chapter Networking Mixer
DESCRIPTION:Join the Fundaxi team and meet your fellow Business Angels\, Partners\, and Fundaxers in the Gallup area. When : Thursday\, Mar. 2nd from 11:30-1:00 PM Where: 1300 W Maloney Ave\, Gallup\, NM 87301 What to Expect: Network with our growing chapter. Build your business through referrals. Get to know the community and learn how you can get more involved. A chance to win cool door prizes. Hear Fundaxi updates and listen to testimonies from our Partners\, Angels and Fundaxers.
X-ALT-DESC;FMTTYPE=text/html:Join the Fundaxi team and meet your fellow Business Angels\, Partners\, and Fundaxers in the Gallup area. When : Thursday\, Mar. 2nd from 11:30-1:00 PM Where: 1300 W Maloney Ave\, Gallup\, NM 87301 What to Expect: Network with our growing chapter. Build your business through referrals. Get to know the community and learn how you can get more involved. A chance to win cool door prizes. Hear Fundaxi updates and listen to testimonies from our Partners\, Angels and Fundaxers.
LOCATION:Pizza 9 Gallup 1300 W Maloney Ave\, Gallup\, NM 87301
UID:e.744.3821
SEQUENCE:3
DTSTAMP:20260420T111233Z
URL:http://gallup-mckinley-gzcms.preview.gochambermaster.com/events/details/fundaxi-gallup-community-chapter-networking-mixer-3821
END:VEVENT

END:VCALENDAR
