BEGIN:VCALENDAR
VERSION:2.0
PRODID:-//ChamberMaster//Event Calendar 2.0//EN
METHOD:PUBLISH
X-PUBLISHED-TTL:P3D
REFRESH-INTERVAL:P3D
CALSCALE:GREGORIAN
BEGIN:VEVENT
DTSTART:20190402T150000Z
DTEND:20190407T220000Z
X-MICROSOFT-CDO-ALLDAYEVENT:FALSE
SUMMARY:Gallup Gun Show
DESCRIPTION:Welcome one and all to the first ever Los Alamos Ammo Gallup Gun Show! We are really excited to be bringing in the best vendors from around NM with all of their goodies. Knives\, firearms\, ammunition\, and reloading supplies. This is a buy/sell/trade event. Hope to see you there!
X-ALT-DESC;FMTTYPE=text/html:Welcome one and all to the first ever Los Alamos Ammo Gallup Gun Show! We are really excited to be bringing in the best vendors from around NM with all of their goodies. Knives\, firearms\, ammunition\, and reloading supplies. This is a buy/sell/trade event. Hope to see you there!
LOCATION:Gallup Community Service Center
UID:e.744.2285
SEQUENCE:3
DTSTAMP:20260425T003630Z
URL:http://gallup-mckinley-gzcms.preview.gochambermaster.com/events/details/gallup-gun-show-2285
END:VEVENT

END:VCALENDAR
