BEGIN:VCALENDAR
VERSION:2.0
PRODID:-//ChamberMaster//Event Calendar 2.0//EN
METHOD:PUBLISH
X-PUBLISHED-TTL:P3D
REFRESH-INTERVAL:P3D
CALSCALE:GREGORIAN
BEGIN:VEVENT
DTSTART:20230120T190000Z
DTEND:20230120T230000Z
X-MICROSOFT-CDO-ALLDAYEVENT:FALSE
SUMMARY:Grand Opening & Ribbon Cutting - I Knead Sugar Tea Shop
DESCRIPTION:Help us celebrate the Grand Opening of I Knead Sugar Tea Shop on Friday\, January 20th!\n\nWe will be doing the Ribbon Cutting at Noon! There will also be a Cake Cutting\, Music\, and\, of course\, TEA!
X-ALT-DESC;FMTTYPE=text/html:<span style="font-size:28px\;"><span style="color: rgb(5\, 5\, 5)\; font-family: &quot\;Segoe UI Historic&quot\;\, &quot\;Segoe UI&quot\;\, Helvetica\, Arial\, sans-serif\; white-space: pre-wrap\;">Help us celebrate the Grand Opening of I Knead Sugar Tea Shop on Friday\, January 20th!<br />\nWe will be doing the Ribbon Cutting at Noon! There will also be a Cake Cutting\, Music\, and\, of course\, TEA!</span></span>
LOCATION:I Knead Sugar Tea Shop 118 Boardman Drive Gallup NM
UID:e.744.3811
SEQUENCE:3
DTSTAMP:20260420T174314Z
URL:http://gallup-mckinley-gzcms.preview.gochambermaster.com/events/details/grand-opening-ribbon-cutting-i-knead-sugar-tea-shop-3811
END:VEVENT

END:VCALENDAR
