BEGIN:VCALENDAR
VERSION:2.0
PRODID:-//ChamberMaster//Event Calendar 2.0//EN
METHOD:PUBLISH
X-PUBLISHED-TTL:P3D
REFRESH-INTERVAL:P3D
CALSCALE:GREGORIAN
BEGIN:VEVENT
DTSTART;VALUE=DATE:20211022
DTEND;VALUE=DATE:20211119
TRANSP:TRANSPARENT
X-MICROSOFT-CDO-ALLDAYEVENT:TRUE
SUMMARY:Leadership McKinley 2022 Registration
DESCRIPTION:Leadership McKinley is a robust\, 10-month leadership development program that feeds our community's leadership pipeline with talented and high-potential professionals (like you)! In Leadership McKinley\, you will learn your natural strengths\, learn how to apply them to your daily interactions with your team\, and learn how those strengths can be utilized to channel the most adept leader in you.\n\n\n\nSo who should set out on this Leadership journey? You\, of course!\n\n	Are you currently a leader at your place of employment or within a group you belong to?\n	Is becoming a leader in your workplace (or future workplace) a goal that you have?\n	Do you want to expand your leadership network?\n	Do you want to be a better communicator or hone your emotional intelligence skills?\n	Do you want to have higher levels of employee engagement and employee retention in your business?\n	Do you want to learn how to create more leaders and have a strong internal leadership pipeline?\n	Or do you simply believe that it is crucial to keep learning if you want to stay competitive in today's world?\n\nIf you said yes to any of these questions\, Let's talk!\n\n\n\nContact the Chamber for more information and your Application. \n\n\n\nApplication Deadline is November 18th by NOON
X-ALT-DESC;FMTTYPE=text/html:Leadership McKinley is a robust\, 10-month leadership development program that feeds our community&#39\;s leadership pipeline with talented and high-potential professionals (like you)! In Leadership McKinley\, you will learn your natural strengths\, learn how to apply them to your daily interactions with your team\, and learn how those strengths can be utilized to channel the most adept leader in you.<br />\n<br />\nSo who should set out on this Leadership journey? You\, of course!\n<ul>\n	<li>Are you currently a leader at your place of employment or within a group you belong to?</li>\n	<li>Is becoming a leader in your workplace (or future workplace) a goal that you have?</li>\n	<li>Do you want to expand your leadership network?</li>\n	<li>Do you want to be a better communicator or hone your emotional intelligence skills?</li>\n	<li>Do you want to have higher levels of employee engagement and employee retention in your business?</li>\n	<li>Do you want to learn how to create more leaders and have a strong internal leadership pipeline?</li>\n	<li>Or do you simply believe that it is crucial to keep learning if you want to stay competitive in today&#39\;s world?</li>\n</ul>\nIf you said yes to any of these questions\, Let&#39\;s talk!<br />\n<br />\n<span style="font-size:20px\;"><strong>Contact the Chamber for more information and your Application.&nbsp\;<br />\n<br />\n<span style="color:#FF0000\;"><em>Application Deadline is November 18th by NOON</em></span></strong></span>
LOCATION:Gallup McKinley County Chamber of Commerce 106 W Historic Hwy 66 Gallup\, NM 87301
UID:e.744.3734
SEQUENCE:3
DTSTAMP:20260421T181803Z
URL:http://gallup-mckinley-gzcms.preview.gochambermaster.com/events/details/leadership-mckinley-2022-registration-3734
END:VEVENT

END:VCALENDAR
