BEGIN:VCALENDAR
VERSION:2.0
PRODID:-//ChamberMaster//Event Calendar 2.0//EN
METHOD:PUBLISH
X-PUBLISHED-TTL:P3D
REFRESH-INTERVAL:P3D
CALSCALE:GREGORIAN
BEGIN:VEVENT
DTSTART:20220701T010000Z
DTEND:20220701T030000Z
X-MICROSOFT-CDO-ALLDAYEVENT:FALSE
SUMMARY:NM United vs. Chattanooga Red Wolves
DESCRIPTION:New Mexico United vs. Chattanooga Red Wolves
X-ALT-DESC;FMTTYPE=text/html:New Mexico United vs. Chattanooga Red Wolves
LOCATION:Angelo DiPaolo Stadium Gallup\, NM
UID:e.744.3776
SEQUENCE:3
DTSTAMP:20260421T032225Z
URL:http://gallup-mckinley-gzcms.preview.gochambermaster.com/events/details/nm-united-vs-chattanooga-red-wolves-3776
END:VEVENT

END:VCALENDAR
