BEGIN:VCALENDAR
VERSION:2.0
PRODID:-//ChamberMaster//Event Calendar 2.0//EN
METHOD:PUBLISH
X-PUBLISHED-TTL:P3D
REFRESH-INTERVAL:P3D
CALSCALE:GREGORIAN
BEGIN:VEVENT
DTSTART:20211021T150000Z
DTEND:20211021T223000Z
X-MICROSOFT-CDO-ALLDAYEVENT:FALSE
SUMMARY:Professional Development Justin Patton
DESCRIPTION:Gallup McKinley County Chamber of Commerce proudly presents Justin Patton\, Award-Winning Author\, and World-Class Leadership Development and Executive Coach. Justin will be discussing how to "Communicate with Influence" and "High-Performance Management". For more information\, or to reserve tickets\, please contact the Gallup Chamber. LUNCH IS ON YOUR OWN
X-ALT-DESC;FMTTYPE=text/html:Gallup McKinley County Chamber of Commerce proudly presents Justin Patton\, Award-Winning Author\, and World-Class Leadership Development and Executive Coach. Justin will be discussing how to &quot\;Communicate with Influence&quot\; and &quot\;High-Performance Management&quot\;. For more information\, or to reserve tickets\, please contact the Gallup Chamber. LUNCH IS ON YOUR OWN
LOCATION:Red Rock Park Auditorium
UID:e.744.3732
SEQUENCE:3
DTSTAMP:20260421T224709Z
URL:http://gallup-mckinley-gzcms.preview.gochambermaster.com/events/details/professional-development-justin-patton-3732
END:VEVENT

END:VCALENDAR
